BEGIN:VCALENDAR
VERSION:2.0
PRODID:icalendar-ruby
CALSCALE:GREGORIAN
METHOD:PUBLISH
BEGIN:VEVENT
DTSTAMP:20260423T065753Z
UID:185-258271@hope-central.church
DTSTART:20260626T190000Z
DTEND:20260627T010000Z
CLASS:PUBLIC
CREATED:20260416T135328
DESCRIPTION:
LAST-MODIFIED:20260416T135328
LOCATION:
SUMMARY:Birthday Party
URL;VALUE=URI:https://www.kimballchristian.com/events/birthday-party/2026-0
 6-26
END:VEVENT
END:VCALENDAR
