BEGIN:VCALENDAR
VERSION:2.0
PRODID:icalendar-ruby
CALSCALE:GREGORIAN
METHOD:PUBLISH
BEGIN:VEVENT
DTSTAMP:20260423T050640Z
UID:183-255076@hope-central.church
DTSTART:20260425T170000Z
DTEND:20260425T220000Z
CLASS:PUBLIC
CREATED:20260414T111805
DESCRIPTION:
LAST-MODIFIED:20260414T111805
LOCATION:Family Life Center
SUMMARY:Edmonson Event- Family Life Center 
URL;VALUE=URI:https://www.kimballchristian.com/events/edmonson-event-family
 -life-center/2026-04-25
END:VEVENT
END:VCALENDAR
