BEGIN:VCALENDAR
VERSION:2.0
PRODID:icalendar-ruby
CALSCALE:GREGORIAN
METHOD:PUBLISH
BEGIN:VEVENT
DTSTAMP:20260423T084311Z
UID:120-255327@hope-central.church
DTSTART:20260614T171500Z
DTEND:20260614T181500Z
CLASS:PUBLIC
CREATED:20260414T151401
DESCRIPTION:Please join us for our next lunch on Sunday\, May 10th at 12:15
  pm!\nAlana and I love being a part of the HC family! We are hosting a lun
 ch every month and would like to invite all those who are new to HC as wel
 l as those in the congregation . You are welcome to attend even if you hav
 e attended previously.  Please join us at the parsonage (the house across
  the parking lot from the church) for lunch on May 10th starting at 12:15p
 m. You don’t need to bring anything! Just come hang out and enjoy some f
 ood together. \nPlease help us know how many people to plan for by giving
  us an RSVP.\nPlease RSVP by Friday\, April 10th - Thank you \nLooking fo
 rward to spending time with you and getting to know you more!\n-Pastor Tom
  Kopp
LAST-MODIFIED:20260414T151401
LOCATION:Parsonage (Kopp home) - Please RSVP in event
SUMMARY:Lunch At the Pastor's
URL;VALUE=URI:https://www.kimballchristian.com/events/lunch-at-the-pastors-
 -120/2026-06-14
ATTACH;FILENAME=Lunch-at-the-Pastor%27s-web.png;FMTTYPE=image/png:https://d
 q5pwpg1q8ru0.cloudfront.net/2025/04/03/14/27/49/4336968a-3486-4c57-8e12-87
 74ca1f856d/Lunch-at-the-Pastor%2527s-web.png
END:VEVENT
END:VCALENDAR
