BEGIN:VCALENDAR
VERSION:2.0
PRODID:icalendar-ruby
CALSCALE:GREGORIAN
METHOD:PUBLISH
BEGIN:VEVENT
DTSTAMP:20260423T095652Z
UID:174-217704@hope-central.church
DTSTART:20260721T230000Z
DTEND:20260722T000000Z
CLASS:PUBLIC
CREATED:20260318T122054
DESCRIPTION:
LAST-MODIFIED:20260318T122054
LOCATION:Kimball Campus Room 130 
SUMMARY:Prayer Council
URL;VALUE=URI:https://www.kimballchristian.com/events/prayer-council/2026-0
 7-21
END:VEVENT
END:VCALENDAR
