BEGIN:VCALENDAR
VERSION:2.0
PRODID:icalendar-ruby
CALSCALE:GREGORIAN
METHOD:PUBLISH
BEGIN:VEVENT
DTSTAMP:20260423T113014Z
UID:174-217705@hope-central.church
DTSTART:20260818T230000Z
DTEND:20260819T000000Z
CLASS:PUBLIC
CREATED:20260318T122054
DESCRIPTION:
LAST-MODIFIED:20260318T122054
LOCATION:Kimball Campus Room 130 
SUMMARY:Prayer Council
URL;VALUE=URI:https://www.kimballchristian.com/events/prayer-council/2026-0
 8-18
END:VEVENT
END:VCALENDAR
