BEGIN:VCALENDAR
VERSION:2.0
PRODID:icalendar-ruby
CALSCALE:GREGORIAN
METHOD:PUBLISH
BEGIN:VEVENT
DTSTAMP:20260423T163952Z
UID:174-217708@hope-central.church
DTSTART:20261118T000000Z
DTEND:20261118T010000Z
CLASS:PUBLIC
CREATED:20260318T122054
DESCRIPTION:
LAST-MODIFIED:20260318T122054
LOCATION:Kimball Campus Room 130 
SUMMARY:Prayer Council
URL;VALUE=URI:https://www.kimballchristian.com/events/prayer-council/2026-1
 1-17
END:VEVENT
END:VCALENDAR
