BEGIN:VCALENDAR
VERSION:2.0
PRODID:icalendar-ruby
CALSCALE:GREGORIAN
METHOD:PUBLISH
BEGIN:VEVENT
DTSTAMP:20260423T064942Z
UID:117-265942@hope-central.church
DTSTART:20260517T143000Z
DTEND:20260517T153000Z
CLASS:PUBLIC
CREATED:20260421T160442
DESCRIPTION:Whether you have been attending here for a long time or a short
  time\, if you want to find out how you can get on board with the mission 
 of Hope Central\, come to Starting Point.  We will offer this 1 hour clas
 s on Sunday\, May 17th at 9:30 am in Room 130 (downstairs next to the rest
 rooms).  Please RSVP below by Thursday\, May 14th.  If you have any ques
 tions\, contact Chris Chambers 320-292-0971.\nRSVP to Starting Point
LAST-MODIFIED:20260421T160442
LOCATION:Kimball Campus Room 130 
SUMMARY:Starting Point Membership Class
URL;VALUE=URI:https://www.kimballchristian.com/events/starting-point-member
 ship-class/2026-05-17
ATTACH;FILENAME=Starting point.png;FMTTYPE=image/png:https://dq5pwpg1q8ru0.
 cloudfront.net/2025/05/01/15/34/27/647e9307-ea5c-4da5-b50c-f3cfd0209196/St
 arting%20point.png
END:VEVENT
END:VCALENDAR
