BEGIN:VCALENDAR
VERSION:2.0
PRODID:icalendar-ruby
CALSCALE:GREGORIAN
METHOD:PUBLISH
BEGIN:VEVENT
DTSTAMP:20260423T065906Z
UID:181-217815@hope-central.church
DTSTART:20260726T233000Z
DTEND:20260731T013000Z
CLASS:PUBLIC
CREATED:20260318T130206
DESCRIPTION:
LAST-MODIFIED:20260318T130206
LOCATION:KImball Campus
SUMMARY:Vacation Bible School
URL;VALUE=URI:https://www.kimballchristian.com/events/vacation-bible-school
 --181/2026-07-26
END:VEVENT
END:VCALENDAR
